BEGIN:VCALENDAR
VERSION:2.0
PRODID:-//St Peter De Beauvoir - ECPv6.11.0.1//NONSGML v1.0//EN
CALSCALE:GREGORIAN
METHOD:PUBLISH
X-WR-CALNAME:St Peter De Beauvoir
X-ORIGINAL-URL:http://www.stpeterdebeauvoir.org.uk
X-WR-CALDESC:Events for St Peter De Beauvoir
REFRESH-INTERVAL;VALUE=DURATION:PT1H
X-Robots-Tag:noindex
X-PUBLISHED-TTL:PT1H
BEGIN:VTIMEZONE
TZID:Europe/London
BEGIN:DAYLIGHT
TZOFFSETFROM:+0000
TZOFFSETTO:+0100
TZNAME:BST
DTSTART:20260329T010000
END:DAYLIGHT
BEGIN:STANDARD
TZOFFSETFROM:+0100
TZOFFSETTO:+0000
TZNAME:GMT
DTSTART:20261025T010000
END:STANDARD
END:VTIMEZONE
BEGIN:VEVENT
DTSTART;TZID=Europe/London:20260914T173000
DTEND;TZID=Europe/London:20260914T180000
DTSTAMP:20260425T160148
CREATED:20220406T131426Z
LAST-MODIFIED:20240311T110615Z
UID:10014470-1789407000-1789408800@www.stpeterdebeauvoir.org.uk
SUMMARY:Evening Prayer
DESCRIPTION:We begin and end most days with 20 minutes of reflective prayer in church. Prayer requests welcome. This is a wonderful way to mark the rhythm of the day! \nThe service takes place in the sanctuary of the church using an easy to follow order of service. All welcome!
URL:http://www.stpeterdebeauvoir.org.uk/event/evening-prayer-5/2026-09-14/
CATEGORIES:Morning & Evening Prayer,What's On,Worship
END:VEVENT
BEGIN:VEVENT
DTSTART;TZID=Europe/London:20260915T173000
DTEND;TZID=Europe/London:20260915T180000
DTSTAMP:20260425T160148
CREATED:20220406T131426Z
LAST-MODIFIED:20240311T110615Z
UID:10014471-1789493400-1789495200@www.stpeterdebeauvoir.org.uk
SUMMARY:Evening Prayer
DESCRIPTION:We begin and end most days with 20 minutes of reflective prayer in church. Prayer requests welcome. This is a wonderful way to mark the rhythm of the day! \nThe service takes place in the sanctuary of the church using an easy to follow order of service. All welcome!
URL:http://www.stpeterdebeauvoir.org.uk/event/evening-prayer-5/2026-09-15/
CATEGORIES:Morning & Evening Prayer,What's On,Worship
END:VEVENT
BEGIN:VEVENT
DTSTART;TZID=Europe/London:20260916T173000
DTEND;TZID=Europe/London:20260916T180000
DTSTAMP:20260425T160148
CREATED:20220406T131426Z
LAST-MODIFIED:20240311T110615Z
UID:10014472-1789579800-1789581600@www.stpeterdebeauvoir.org.uk
SUMMARY:Evening Prayer
DESCRIPTION:We begin and end most days with 20 minutes of reflective prayer in church. Prayer requests welcome. This is a wonderful way to mark the rhythm of the day! \nThe service takes place in the sanctuary of the church using an easy to follow order of service. All welcome!
URL:http://www.stpeterdebeauvoir.org.uk/event/evening-prayer-5/2026-09-16/
CATEGORIES:Morning & Evening Prayer,What's On,Worship
END:VEVENT
BEGIN:VEVENT
DTSTART;TZID=Europe/London:20260918T173000
DTEND;TZID=Europe/London:20260918T180000
DTSTAMP:20260425T160148
CREATED:20220406T131426Z
LAST-MODIFIED:20240311T110615Z
UID:10014473-1789752600-1789754400@www.stpeterdebeauvoir.org.uk
SUMMARY:Evening Prayer
DESCRIPTION:We begin and end most days with 20 minutes of reflective prayer in church. Prayer requests welcome. This is a wonderful way to mark the rhythm of the day! \nThe service takes place in the sanctuary of the church using an easy to follow order of service. All welcome!
URL:http://www.stpeterdebeauvoir.org.uk/event/evening-prayer-5/2026-09-18/
CATEGORIES:Morning & Evening Prayer,What's On,Worship
END:VEVENT
BEGIN:VEVENT
DTSTART;TZID=Europe/London:20260921T173000
DTEND;TZID=Europe/London:20260921T180000
DTSTAMP:20260425T160148
CREATED:20220406T131426Z
LAST-MODIFIED:20240311T110615Z
UID:10014474-1790011800-1790013600@www.stpeterdebeauvoir.org.uk
SUMMARY:Evening Prayer
DESCRIPTION:We begin and end most days with 20 minutes of reflective prayer in church. Prayer requests welcome. This is a wonderful way to mark the rhythm of the day! \nThe service takes place in the sanctuary of the church using an easy to follow order of service. All welcome!
URL:http://www.stpeterdebeauvoir.org.uk/event/evening-prayer-5/2026-09-21/
CATEGORIES:Morning & Evening Prayer,What's On,Worship
END:VEVENT
BEGIN:VEVENT
DTSTART;TZID=Europe/London:20260922T173000
DTEND;TZID=Europe/London:20260922T180000
DTSTAMP:20260425T160148
CREATED:20220406T131426Z
LAST-MODIFIED:20240311T110615Z
UID:10014475-1790098200-1790100000@www.stpeterdebeauvoir.org.uk
SUMMARY:Evening Prayer
DESCRIPTION:We begin and end most days with 20 minutes of reflective prayer in church. Prayer requests welcome. This is a wonderful way to mark the rhythm of the day! \nThe service takes place in the sanctuary of the church using an easy to follow order of service. All welcome!
URL:http://www.stpeterdebeauvoir.org.uk/event/evening-prayer-5/2026-09-22/
CATEGORIES:Morning & Evening Prayer,What's On,Worship
END:VEVENT
BEGIN:VEVENT
DTSTART;TZID=Europe/London:20260923T173000
DTEND;TZID=Europe/London:20260923T180000
DTSTAMP:20260425T160148
CREATED:20220406T131426Z
LAST-MODIFIED:20240311T110615Z
UID:10014476-1790184600-1790186400@www.stpeterdebeauvoir.org.uk
SUMMARY:Evening Prayer
DESCRIPTION:We begin and end most days with 20 minutes of reflective prayer in church. Prayer requests welcome. This is a wonderful way to mark the rhythm of the day! \nThe service takes place in the sanctuary of the church using an easy to follow order of service. All welcome!
URL:http://www.stpeterdebeauvoir.org.uk/event/evening-prayer-5/2026-09-23/
CATEGORIES:Morning & Evening Prayer,What's On,Worship
END:VEVENT
BEGIN:VEVENT
DTSTART;TZID=Europe/London:20260925T173000
DTEND;TZID=Europe/London:20260925T180000
DTSTAMP:20260425T160148
CREATED:20220406T131426Z
LAST-MODIFIED:20240311T110615Z
UID:10014477-1790357400-1790359200@www.stpeterdebeauvoir.org.uk
SUMMARY:Evening Prayer
DESCRIPTION:We begin and end most days with 20 minutes of reflective prayer in church. Prayer requests welcome. This is a wonderful way to mark the rhythm of the day! \nThe service takes place in the sanctuary of the church using an easy to follow order of service. All welcome!
URL:http://www.stpeterdebeauvoir.org.uk/event/evening-prayer-5/2026-09-25/
CATEGORIES:Morning & Evening Prayer,What's On,Worship
END:VEVENT
BEGIN:VEVENT
DTSTART;TZID=Europe/London:20260928T173000
DTEND;TZID=Europe/London:20260928T180000
DTSTAMP:20260425T160148
CREATED:20220406T131426Z
LAST-MODIFIED:20240311T110615Z
UID:10014478-1790616600-1790618400@www.stpeterdebeauvoir.org.uk
SUMMARY:Evening Prayer
DESCRIPTION:We begin and end most days with 20 minutes of reflective prayer in church. Prayer requests welcome. This is a wonderful way to mark the rhythm of the day! \nThe service takes place in the sanctuary of the church using an easy to follow order of service. All welcome!
URL:http://www.stpeterdebeauvoir.org.uk/event/evening-prayer-5/2026-09-28/
CATEGORIES:Morning & Evening Prayer,What's On,Worship
END:VEVENT
BEGIN:VEVENT
DTSTART;TZID=Europe/London:20260929T173000
DTEND;TZID=Europe/London:20260929T180000
DTSTAMP:20260425T160148
CREATED:20220406T131426Z
LAST-MODIFIED:20240311T110615Z
UID:10014479-1790703000-1790704800@www.stpeterdebeauvoir.org.uk
SUMMARY:Evening Prayer
DESCRIPTION:We begin and end most days with 20 minutes of reflective prayer in church. Prayer requests welcome. This is a wonderful way to mark the rhythm of the day! \nThe service takes place in the sanctuary of the church using an easy to follow order of service. All welcome!
URL:http://www.stpeterdebeauvoir.org.uk/event/evening-prayer-5/2026-09-29/
CATEGORIES:Morning & Evening Prayer,What's On,Worship
END:VEVENT
BEGIN:VEVENT
DTSTART;TZID=Europe/London:20260930T173000
DTEND;TZID=Europe/London:20260930T180000
DTSTAMP:20260425T160148
CREATED:20220406T131426Z
LAST-MODIFIED:20240311T110615Z
UID:10014480-1790789400-1790791200@www.stpeterdebeauvoir.org.uk
SUMMARY:Evening Prayer
DESCRIPTION:We begin and end most days with 20 minutes of reflective prayer in church. Prayer requests welcome. This is a wonderful way to mark the rhythm of the day! \nThe service takes place in the sanctuary of the church using an easy to follow order of service. All welcome!
URL:http://www.stpeterdebeauvoir.org.uk/event/evening-prayer-5/2026-09-30/
CATEGORIES:Morning & Evening Prayer,What's On,Worship
END:VEVENT
BEGIN:VEVENT
DTSTART;TZID=Europe/London:20261002T173000
DTEND;TZID=Europe/London:20261002T180000
DTSTAMP:20260425T160148
CREATED:20220406T131426Z
LAST-MODIFIED:20240311T110615Z
UID:10014481-1790962200-1790964000@www.stpeterdebeauvoir.org.uk
SUMMARY:Evening Prayer
DESCRIPTION:We begin and end most days with 20 minutes of reflective prayer in church. Prayer requests welcome. This is a wonderful way to mark the rhythm of the day! \nThe service takes place in the sanctuary of the church using an easy to follow order of service. All welcome!
URL:http://www.stpeterdebeauvoir.org.uk/event/evening-prayer-5/2026-10-02/
CATEGORIES:Morning & Evening Prayer,What's On,Worship
END:VEVENT
BEGIN:VEVENT
DTSTART;TZID=Europe/London:20261005T173000
DTEND;TZID=Europe/London:20261005T180000
DTSTAMP:20260425T160148
CREATED:20220406T131426Z
LAST-MODIFIED:20240311T110615Z
UID:10014482-1791221400-1791223200@www.stpeterdebeauvoir.org.uk
SUMMARY:Evening Prayer
DESCRIPTION:We begin and end most days with 20 minutes of reflective prayer in church. Prayer requests welcome. This is a wonderful way to mark the rhythm of the day! \nThe service takes place in the sanctuary of the church using an easy to follow order of service. All welcome!
URL:http://www.stpeterdebeauvoir.org.uk/event/evening-prayer-5/2026-10-05/
CATEGORIES:Morning & Evening Prayer,What's On,Worship
END:VEVENT
BEGIN:VEVENT
DTSTART;TZID=Europe/London:20261006T173000
DTEND;TZID=Europe/London:20261006T180000
DTSTAMP:20260425T160148
CREATED:20220406T131426Z
LAST-MODIFIED:20240311T110615Z
UID:10014483-1791307800-1791309600@www.stpeterdebeauvoir.org.uk
SUMMARY:Evening Prayer
DESCRIPTION:We begin and end most days with 20 minutes of reflective prayer in church. Prayer requests welcome. This is a wonderful way to mark the rhythm of the day! \nThe service takes place in the sanctuary of the church using an easy to follow order of service. All welcome!
URL:http://www.stpeterdebeauvoir.org.uk/event/evening-prayer-5/2026-10-06/
CATEGORIES:Morning & Evening Prayer,What's On,Worship
END:VEVENT
BEGIN:VEVENT
DTSTART;TZID=Europe/London:20261007T173000
DTEND;TZID=Europe/London:20261007T180000
DTSTAMP:20260425T160148
CREATED:20220406T131426Z
LAST-MODIFIED:20240311T110615Z
UID:10014484-1791394200-1791396000@www.stpeterdebeauvoir.org.uk
SUMMARY:Evening Prayer
DESCRIPTION:We begin and end most days with 20 minutes of reflective prayer in church. Prayer requests welcome. This is a wonderful way to mark the rhythm of the day! \nThe service takes place in the sanctuary of the church using an easy to follow order of service. All welcome!
URL:http://www.stpeterdebeauvoir.org.uk/event/evening-prayer-5/2026-10-07/
CATEGORIES:Morning & Evening Prayer,What's On,Worship
END:VEVENT
BEGIN:VEVENT
DTSTART;TZID=Europe/London:20261009T173000
DTEND;TZID=Europe/London:20261009T180000
DTSTAMP:20260425T160148
CREATED:20220406T131426Z
LAST-MODIFIED:20240311T110615Z
UID:10014485-1791567000-1791568800@www.stpeterdebeauvoir.org.uk
SUMMARY:Evening Prayer
DESCRIPTION:We begin and end most days with 20 minutes of reflective prayer in church. Prayer requests welcome. This is a wonderful way to mark the rhythm of the day! \nThe service takes place in the sanctuary of the church using an easy to follow order of service. All welcome!
URL:http://www.stpeterdebeauvoir.org.uk/event/evening-prayer-5/2026-10-09/
CATEGORIES:Morning & Evening Prayer,What's On,Worship
END:VEVENT
BEGIN:VEVENT
DTSTART;TZID=Europe/London:20261012T173000
DTEND;TZID=Europe/London:20261012T180000
DTSTAMP:20260425T160148
CREATED:20220406T131426Z
LAST-MODIFIED:20240311T110615Z
UID:10014486-1791826200-1791828000@www.stpeterdebeauvoir.org.uk
SUMMARY:Evening Prayer
DESCRIPTION:We begin and end most days with 20 minutes of reflective prayer in church. Prayer requests welcome. This is a wonderful way to mark the rhythm of the day! \nThe service takes place in the sanctuary of the church using an easy to follow order of service. All welcome!
URL:http://www.stpeterdebeauvoir.org.uk/event/evening-prayer-5/2026-10-12/
CATEGORIES:Morning & Evening Prayer,What's On,Worship
END:VEVENT
BEGIN:VEVENT
DTSTART;TZID=Europe/London:20261013T173000
DTEND;TZID=Europe/London:20261013T180000
DTSTAMP:20260425T160148
CREATED:20220406T131426Z
LAST-MODIFIED:20240311T110615Z
UID:10014487-1791912600-1791914400@www.stpeterdebeauvoir.org.uk
SUMMARY:Evening Prayer
DESCRIPTION:We begin and end most days with 20 minutes of reflective prayer in church. Prayer requests welcome. This is a wonderful way to mark the rhythm of the day! \nThe service takes place in the sanctuary of the church using an easy to follow order of service. All welcome!
URL:http://www.stpeterdebeauvoir.org.uk/event/evening-prayer-5/2026-10-13/
CATEGORIES:Morning & Evening Prayer,What's On,Worship
END:VEVENT
BEGIN:VEVENT
DTSTART;TZID=Europe/London:20261014T173000
DTEND;TZID=Europe/London:20261014T180000
DTSTAMP:20260425T160148
CREATED:20220406T131426Z
LAST-MODIFIED:20240311T110615Z
UID:10014488-1791999000-1792000800@www.stpeterdebeauvoir.org.uk
SUMMARY:Evening Prayer
DESCRIPTION:We begin and end most days with 20 minutes of reflective prayer in church. Prayer requests welcome. This is a wonderful way to mark the rhythm of the day! \nThe service takes place in the sanctuary of the church using an easy to follow order of service. All welcome!
URL:http://www.stpeterdebeauvoir.org.uk/event/evening-prayer-5/2026-10-14/
CATEGORIES:Morning & Evening Prayer,What's On,Worship
END:VEVENT
BEGIN:VEVENT
DTSTART;TZID=Europe/London:20261016T173000
DTEND;TZID=Europe/London:20261016T180000
DTSTAMP:20260425T160148
CREATED:20220406T131426Z
LAST-MODIFIED:20240311T110615Z
UID:10014489-1792171800-1792173600@www.stpeterdebeauvoir.org.uk
SUMMARY:Evening Prayer
DESCRIPTION:We begin and end most days with 20 minutes of reflective prayer in church. Prayer requests welcome. This is a wonderful way to mark the rhythm of the day! \nThe service takes place in the sanctuary of the church using an easy to follow order of service. All welcome!
URL:http://www.stpeterdebeauvoir.org.uk/event/evening-prayer-5/2026-10-16/
CATEGORIES:Morning & Evening Prayer,What's On,Worship
END:VEVENT
BEGIN:VEVENT
DTSTART;TZID=Europe/London:20261019T173000
DTEND;TZID=Europe/London:20261019T180000
DTSTAMP:20260425T160148
CREATED:20220406T131426Z
LAST-MODIFIED:20240311T110615Z
UID:10014490-1792431000-1792432800@www.stpeterdebeauvoir.org.uk
SUMMARY:Evening Prayer
DESCRIPTION:We begin and end most days with 20 minutes of reflective prayer in church. Prayer requests welcome. This is a wonderful way to mark the rhythm of the day! \nThe service takes place in the sanctuary of the church using an easy to follow order of service. All welcome!
URL:http://www.stpeterdebeauvoir.org.uk/event/evening-prayer-5/2026-10-19/
CATEGORIES:Morning & Evening Prayer,What's On,Worship
END:VEVENT
BEGIN:VEVENT
DTSTART;TZID=Europe/London:20261020T173000
DTEND;TZID=Europe/London:20261020T180000
DTSTAMP:20260425T160148
CREATED:20220406T131426Z
LAST-MODIFIED:20240311T110615Z
UID:10014491-1792517400-1792519200@www.stpeterdebeauvoir.org.uk
SUMMARY:Evening Prayer
DESCRIPTION:We begin and end most days with 20 minutes of reflective prayer in church. Prayer requests welcome. This is a wonderful way to mark the rhythm of the day! \nThe service takes place in the sanctuary of the church using an easy to follow order of service. All welcome!
URL:http://www.stpeterdebeauvoir.org.uk/event/evening-prayer-5/2026-10-20/
CATEGORIES:Morning & Evening Prayer,What's On,Worship
END:VEVENT
BEGIN:VEVENT
DTSTART;TZID=Europe/London:20261021T173000
DTEND;TZID=Europe/London:20261021T180000
DTSTAMP:20260425T160148
CREATED:20220406T131426Z
LAST-MODIFIED:20240311T110615Z
UID:10014492-1792603800-1792605600@www.stpeterdebeauvoir.org.uk
SUMMARY:Evening Prayer
DESCRIPTION:We begin and end most days with 20 minutes of reflective prayer in church. Prayer requests welcome. This is a wonderful way to mark the rhythm of the day! \nThe service takes place in the sanctuary of the church using an easy to follow order of service. All welcome!
URL:http://www.stpeterdebeauvoir.org.uk/event/evening-prayer-5/2026-10-21/
CATEGORIES:Morning & Evening Prayer,What's On,Worship
END:VEVENT
BEGIN:VEVENT
DTSTART;TZID=Europe/London:20261023T173000
DTEND;TZID=Europe/London:20261023T180000
DTSTAMP:20260425T160148
CREATED:20220406T131426Z
LAST-MODIFIED:20240311T110615Z
UID:10014493-1792776600-1792778400@www.stpeterdebeauvoir.org.uk
SUMMARY:Evening Prayer
DESCRIPTION:We begin and end most days with 20 minutes of reflective prayer in church. Prayer requests welcome. This is a wonderful way to mark the rhythm of the day! \nThe service takes place in the sanctuary of the church using an easy to follow order of service. All welcome!
URL:http://www.stpeterdebeauvoir.org.uk/event/evening-prayer-5/2026-10-23/
CATEGORIES:Morning & Evening Prayer,What's On,Worship
END:VEVENT
BEGIN:VEVENT
DTSTART;TZID=Europe/London:20261026T173000
DTEND;TZID=Europe/London:20261026T180000
DTSTAMP:20260425T160148
CREATED:20220406T131426Z
LAST-MODIFIED:20240311T110615Z
UID:10014494-1793035800-1793037600@www.stpeterdebeauvoir.org.uk
SUMMARY:Evening Prayer
DESCRIPTION:We begin and end most days with 20 minutes of reflective prayer in church. Prayer requests welcome. This is a wonderful way to mark the rhythm of the day! \nThe service takes place in the sanctuary of the church using an easy to follow order of service. All welcome!
URL:http://www.stpeterdebeauvoir.org.uk/event/evening-prayer-5/2026-10-26/
CATEGORIES:Morning & Evening Prayer,What's On,Worship
END:VEVENT
BEGIN:VEVENT
DTSTART;TZID=Europe/London:20261027T173000
DTEND;TZID=Europe/London:20261027T180000
DTSTAMP:20260425T160148
CREATED:20220406T131426Z
LAST-MODIFIED:20240311T110615Z
UID:10014495-1793122200-1793124000@www.stpeterdebeauvoir.org.uk
SUMMARY:Evening Prayer
DESCRIPTION:We begin and end most days with 20 minutes of reflective prayer in church. Prayer requests welcome. This is a wonderful way to mark the rhythm of the day! \nThe service takes place in the sanctuary of the church using an easy to follow order of service. All welcome!
URL:http://www.stpeterdebeauvoir.org.uk/event/evening-prayer-5/2026-10-27/
CATEGORIES:Morning & Evening Prayer,What's On,Worship
END:VEVENT
BEGIN:VEVENT
DTSTART;TZID=Europe/London:20261028T173000
DTEND;TZID=Europe/London:20261028T180000
DTSTAMP:20260425T160148
CREATED:20220406T131426Z
LAST-MODIFIED:20240311T110615Z
UID:10014496-1793208600-1793210400@www.stpeterdebeauvoir.org.uk
SUMMARY:Evening Prayer
DESCRIPTION:We begin and end most days with 20 minutes of reflective prayer in church. Prayer requests welcome. This is a wonderful way to mark the rhythm of the day! \nThe service takes place in the sanctuary of the church using an easy to follow order of service. All welcome!
URL:http://www.stpeterdebeauvoir.org.uk/event/evening-prayer-5/2026-10-28/
CATEGORIES:Morning & Evening Prayer,What's On,Worship
END:VEVENT
BEGIN:VEVENT
DTSTART;TZID=Europe/London:20261030T173000
DTEND;TZID=Europe/London:20261030T180000
DTSTAMP:20260425T160148
CREATED:20220406T131426Z
LAST-MODIFIED:20240311T110615Z
UID:10014497-1793381400-1793383200@www.stpeterdebeauvoir.org.uk
SUMMARY:Evening Prayer
DESCRIPTION:We begin and end most days with 20 minutes of reflective prayer in church. Prayer requests welcome. This is a wonderful way to mark the rhythm of the day! \nThe service takes place in the sanctuary of the church using an easy to follow order of service. All welcome!
URL:http://www.stpeterdebeauvoir.org.uk/event/evening-prayer-5/2026-10-30/
CATEGORIES:Morning & Evening Prayer,What's On,Worship
END:VEVENT
BEGIN:VEVENT
DTSTART;TZID=Europe/London:20261102T173000
DTEND;TZID=Europe/London:20261102T180000
DTSTAMP:20260425T160148
CREATED:20220406T131426Z
LAST-MODIFIED:20240311T110615Z
UID:10014498-1793640600-1793642400@www.stpeterdebeauvoir.org.uk
SUMMARY:Evening Prayer
DESCRIPTION:We begin and end most days with 20 minutes of reflective prayer in church. Prayer requests welcome. This is a wonderful way to mark the rhythm of the day! \nThe service takes place in the sanctuary of the church using an easy to follow order of service. All welcome!
URL:http://www.stpeterdebeauvoir.org.uk/event/evening-prayer-5/2026-11-02/
CATEGORIES:Morning & Evening Prayer,What's On,Worship
END:VEVENT
BEGIN:VEVENT
DTSTART;TZID=Europe/London:20261103T173000
DTEND;TZID=Europe/London:20261103T180000
DTSTAMP:20260425T160148
CREATED:20220406T131426Z
LAST-MODIFIED:20240311T110615Z
UID:10014499-1793727000-1793728800@www.stpeterdebeauvoir.org.uk
SUMMARY:Evening Prayer
DESCRIPTION:We begin and end most days with 20 minutes of reflective prayer in church. Prayer requests welcome. This is a wonderful way to mark the rhythm of the day! \nThe service takes place in the sanctuary of the church using an easy to follow order of service. All welcome!
URL:http://www.stpeterdebeauvoir.org.uk/event/evening-prayer-5/2026-11-03/
CATEGORIES:Morning & Evening Prayer,What's On,Worship
END:VEVENT
END:VCALENDAR