BEGIN:VCALENDAR
VERSION:2.0
PRODID:-//St Peter De Beauvoir - ECPv6.11.0.1//NONSGML v1.0//EN
CALSCALE:GREGORIAN
METHOD:PUBLISH
X-ORIGINAL-URL:http://www.stpeterdebeauvoir.org.uk
X-WR-CALDESC:Events for St Peter De Beauvoir
REFRESH-INTERVAL;VALUE=DURATION:PT1H
X-Robots-Tag:noindex
X-PUBLISHED-TTL:PT1H
BEGIN:VTIMEZONE
TZID:Europe/London
BEGIN:DAYLIGHT
TZOFFSETFROM:+0000
TZOFFSETTO:+0100
TZNAME:BST
DTSTART:20270328T010000
END:DAYLIGHT
BEGIN:STANDARD
TZOFFSETFROM:+0100
TZOFFSETTO:+0000
TZNAME:GMT
DTSTART:20271031T010000
END:STANDARD
END:VTIMEZONE
BEGIN:VEVENT
DTSTART;TZID=Europe/London:20270201T173000
DTEND;TZID=Europe/London:20270201T180000
DTSTAMP:20260426T044950
CREATED:20220406T131426Z
LAST-MODIFIED:20240311T110615Z
UID:10014550-1801503000-1801504800@www.stpeterdebeauvoir.org.uk
SUMMARY:Evening Prayer
DESCRIPTION:We begin and end most days with 20 minutes of reflective prayer in church. Prayer requests welcome. This is a wonderful way to mark the rhythm of the day! \nThe service takes place in the sanctuary of the church using an easy to follow order of service. All welcome!
URL:http://www.stpeterdebeauvoir.org.uk/event/evening-prayer-5/2027-02-01/
CATEGORIES:Morning & Evening Prayer,What's On,Worship
END:VEVENT
BEGIN:VEVENT
DTSTART;TZID=Europe/London:20270202T173000
DTEND;TZID=Europe/London:20270202T180000
DTSTAMP:20260426T044950
CREATED:20220406T131426Z
LAST-MODIFIED:20240311T110615Z
UID:10014551-1801589400-1801591200@www.stpeterdebeauvoir.org.uk
SUMMARY:Evening Prayer
DESCRIPTION:We begin and end most days with 20 minutes of reflective prayer in church. Prayer requests welcome. This is a wonderful way to mark the rhythm of the day! \nThe service takes place in the sanctuary of the church using an easy to follow order of service. All welcome!
URL:http://www.stpeterdebeauvoir.org.uk/event/evening-prayer-5/2027-02-02/
CATEGORIES:Morning & Evening Prayer,What's On,Worship
END:VEVENT
BEGIN:VEVENT
DTSTART;TZID=Europe/London:20270203T173000
DTEND;TZID=Europe/London:20270203T180000
DTSTAMP:20260426T044950
CREATED:20220406T131426Z
LAST-MODIFIED:20240311T110615Z
UID:10014552-1801675800-1801677600@www.stpeterdebeauvoir.org.uk
SUMMARY:Evening Prayer
DESCRIPTION:We begin and end most days with 20 minutes of reflective prayer in church. Prayer requests welcome. This is a wonderful way to mark the rhythm of the day! \nThe service takes place in the sanctuary of the church using an easy to follow order of service. All welcome!
URL:http://www.stpeterdebeauvoir.org.uk/event/evening-prayer-5/2027-02-03/
CATEGORIES:Morning & Evening Prayer,What's On,Worship
END:VEVENT
BEGIN:VEVENT
DTSTART;TZID=Europe/London:20270205T173000
DTEND;TZID=Europe/London:20270205T180000
DTSTAMP:20260426T044950
CREATED:20220406T131426Z
LAST-MODIFIED:20240311T110615Z
UID:10014553-1801848600-1801850400@www.stpeterdebeauvoir.org.uk
SUMMARY:Evening Prayer
DESCRIPTION:We begin and end most days with 20 minutes of reflective prayer in church. Prayer requests welcome. This is a wonderful way to mark the rhythm of the day! \nThe service takes place in the sanctuary of the church using an easy to follow order of service. All welcome!
URL:http://www.stpeterdebeauvoir.org.uk/event/evening-prayer-5/2027-02-05/
CATEGORIES:Morning & Evening Prayer,What's On,Worship
END:VEVENT
BEGIN:VEVENT
DTSTART;TZID=Europe/London:20270208T173000
DTEND;TZID=Europe/London:20270208T180000
DTSTAMP:20260426T044950
CREATED:20220406T131426Z
LAST-MODIFIED:20240311T110615Z
UID:10014554-1802107800-1802109600@www.stpeterdebeauvoir.org.uk
SUMMARY:Evening Prayer
DESCRIPTION:We begin and end most days with 20 minutes of reflective prayer in church. Prayer requests welcome. This is a wonderful way to mark the rhythm of the day! \nThe service takes place in the sanctuary of the church using an easy to follow order of service. All welcome!
URL:http://www.stpeterdebeauvoir.org.uk/event/evening-prayer-5/2027-02-08/
CATEGORIES:Morning & Evening Prayer,What's On,Worship
END:VEVENT
BEGIN:VEVENT
DTSTART;TZID=Europe/London:20270209T173000
DTEND;TZID=Europe/London:20270209T180000
DTSTAMP:20260426T044950
CREATED:20220406T131426Z
LAST-MODIFIED:20240311T110615Z
UID:10014555-1802194200-1802196000@www.stpeterdebeauvoir.org.uk
SUMMARY:Evening Prayer
DESCRIPTION:We begin and end most days with 20 minutes of reflective prayer in church. Prayer requests welcome. This is a wonderful way to mark the rhythm of the day! \nThe service takes place in the sanctuary of the church using an easy to follow order of service. All welcome!
URL:http://www.stpeterdebeauvoir.org.uk/event/evening-prayer-5/2027-02-09/
CATEGORIES:Morning & Evening Prayer,What's On,Worship
END:VEVENT
BEGIN:VEVENT
DTSTART;TZID=Europe/London:20270210T173000
DTEND;TZID=Europe/London:20270210T180000
DTSTAMP:20260426T044950
CREATED:20220406T131426Z
LAST-MODIFIED:20240311T110615Z
UID:10014556-1802280600-1802282400@www.stpeterdebeauvoir.org.uk
SUMMARY:Evening Prayer
DESCRIPTION:We begin and end most days with 20 minutes of reflective prayer in church. Prayer requests welcome. This is a wonderful way to mark the rhythm of the day! \nThe service takes place in the sanctuary of the church using an easy to follow order of service. All welcome!
URL:http://www.stpeterdebeauvoir.org.uk/event/evening-prayer-5/2027-02-10/
CATEGORIES:Morning & Evening Prayer,What's On,Worship
END:VEVENT
BEGIN:VEVENT
DTSTART;TZID=Europe/London:20270212T173000
DTEND;TZID=Europe/London:20270212T180000
DTSTAMP:20260426T044950
CREATED:20220406T131426Z
LAST-MODIFIED:20240311T110615Z
UID:10014557-1802453400-1802455200@www.stpeterdebeauvoir.org.uk
SUMMARY:Evening Prayer
DESCRIPTION:We begin and end most days with 20 minutes of reflective prayer in church. Prayer requests welcome. This is a wonderful way to mark the rhythm of the day! \nThe service takes place in the sanctuary of the church using an easy to follow order of service. All welcome!
URL:http://www.stpeterdebeauvoir.org.uk/event/evening-prayer-5/2027-02-12/
CATEGORIES:Morning & Evening Prayer,What's On,Worship
END:VEVENT
BEGIN:VEVENT
DTSTART;TZID=Europe/London:20270215T173000
DTEND;TZID=Europe/London:20270215T180000
DTSTAMP:20260426T044950
CREATED:20220406T131426Z
LAST-MODIFIED:20240311T110615Z
UID:10014558-1802712600-1802714400@www.stpeterdebeauvoir.org.uk
SUMMARY:Evening Prayer
DESCRIPTION:We begin and end most days with 20 minutes of reflective prayer in church. Prayer requests welcome. This is a wonderful way to mark the rhythm of the day! \nThe service takes place in the sanctuary of the church using an easy to follow order of service. All welcome!
URL:http://www.stpeterdebeauvoir.org.uk/event/evening-prayer-5/2027-02-15/
CATEGORIES:Morning & Evening Prayer,What's On,Worship
END:VEVENT
BEGIN:VEVENT
DTSTART;TZID=Europe/London:20270216T173000
DTEND;TZID=Europe/London:20270216T180000
DTSTAMP:20260426T044950
CREATED:20220406T131426Z
LAST-MODIFIED:20240311T110615Z
UID:10014559-1802799000-1802800800@www.stpeterdebeauvoir.org.uk
SUMMARY:Evening Prayer
DESCRIPTION:We begin and end most days with 20 minutes of reflective prayer in church. Prayer requests welcome. This is a wonderful way to mark the rhythm of the day! \nThe service takes place in the sanctuary of the church using an easy to follow order of service. All welcome!
URL:http://www.stpeterdebeauvoir.org.uk/event/evening-prayer-5/2027-02-16/
CATEGORIES:Morning & Evening Prayer,What's On,Worship
END:VEVENT
BEGIN:VEVENT
DTSTART;TZID=Europe/London:20270217T173000
DTEND;TZID=Europe/London:20270217T180000
DTSTAMP:20260426T044950
CREATED:20220406T131426Z
LAST-MODIFIED:20240311T110615Z
UID:10014560-1802885400-1802887200@www.stpeterdebeauvoir.org.uk
SUMMARY:Evening Prayer
DESCRIPTION:We begin and end most days with 20 minutes of reflective prayer in church. Prayer requests welcome. This is a wonderful way to mark the rhythm of the day! \nThe service takes place in the sanctuary of the church using an easy to follow order of service. All welcome!
URL:http://www.stpeterdebeauvoir.org.uk/event/evening-prayer-5/2027-02-17/
CATEGORIES:Morning & Evening Prayer,What's On,Worship
END:VEVENT
BEGIN:VEVENT
DTSTART;TZID=Europe/London:20270219T173000
DTEND;TZID=Europe/London:20270219T180000
DTSTAMP:20260426T044950
CREATED:20220406T131426Z
LAST-MODIFIED:20240311T110615Z
UID:10014561-1803058200-1803060000@www.stpeterdebeauvoir.org.uk
SUMMARY:Evening Prayer
DESCRIPTION:We begin and end most days with 20 minutes of reflective prayer in church. Prayer requests welcome. This is a wonderful way to mark the rhythm of the day! \nThe service takes place in the sanctuary of the church using an easy to follow order of service. All welcome!
URL:http://www.stpeterdebeauvoir.org.uk/event/evening-prayer-5/2027-02-19/
CATEGORIES:Morning & Evening Prayer,What's On,Worship
END:VEVENT
BEGIN:VEVENT
DTSTART;TZID=Europe/London:20270222T173000
DTEND;TZID=Europe/London:20270222T180000
DTSTAMP:20260426T044950
CREATED:20220406T131426Z
LAST-MODIFIED:20240311T110615Z
UID:10014562-1803317400-1803319200@www.stpeterdebeauvoir.org.uk
SUMMARY:Evening Prayer
DESCRIPTION:We begin and end most days with 20 minutes of reflective prayer in church. Prayer requests welcome. This is a wonderful way to mark the rhythm of the day! \nThe service takes place in the sanctuary of the church using an easy to follow order of service. All welcome!
URL:http://www.stpeterdebeauvoir.org.uk/event/evening-prayer-5/2027-02-22/
CATEGORIES:Morning & Evening Prayer,What's On,Worship
END:VEVENT
BEGIN:VEVENT
DTSTART;TZID=Europe/London:20270223T173000
DTEND;TZID=Europe/London:20270223T180000
DTSTAMP:20260426T044950
CREATED:20220406T131426Z
LAST-MODIFIED:20240311T110615Z
UID:10014563-1803403800-1803405600@www.stpeterdebeauvoir.org.uk
SUMMARY:Evening Prayer
DESCRIPTION:We begin and end most days with 20 minutes of reflective prayer in church. Prayer requests welcome. This is a wonderful way to mark the rhythm of the day! \nThe service takes place in the sanctuary of the church using an easy to follow order of service. All welcome!
URL:http://www.stpeterdebeauvoir.org.uk/event/evening-prayer-5/2027-02-23/
CATEGORIES:Morning & Evening Prayer,What's On,Worship
END:VEVENT
BEGIN:VEVENT
DTSTART;TZID=Europe/London:20270224T173000
DTEND;TZID=Europe/London:20270224T180000
DTSTAMP:20260426T044950
CREATED:20220406T131426Z
LAST-MODIFIED:20240311T110615Z
UID:10014564-1803490200-1803492000@www.stpeterdebeauvoir.org.uk
SUMMARY:Evening Prayer
DESCRIPTION:We begin and end most days with 20 minutes of reflective prayer in church. Prayer requests welcome. This is a wonderful way to mark the rhythm of the day! \nThe service takes place in the sanctuary of the church using an easy to follow order of service. All welcome!
URL:http://www.stpeterdebeauvoir.org.uk/event/evening-prayer-5/2027-02-24/
CATEGORIES:Morning & Evening Prayer,What's On,Worship
END:VEVENT
BEGIN:VEVENT
DTSTART;TZID=Europe/London:20270226T173000
DTEND;TZID=Europe/London:20270226T180000
DTSTAMP:20260426T044950
CREATED:20220406T131426Z
LAST-MODIFIED:20240311T110615Z
UID:10014565-1803663000-1803664800@www.stpeterdebeauvoir.org.uk
SUMMARY:Evening Prayer
DESCRIPTION:We begin and end most days with 20 minutes of reflective prayer in church. Prayer requests welcome. This is a wonderful way to mark the rhythm of the day! \nThe service takes place in the sanctuary of the church using an easy to follow order of service. All welcome!
URL:http://www.stpeterdebeauvoir.org.uk/event/evening-prayer-5/2027-02-26/
CATEGORIES:Morning & Evening Prayer,What's On,Worship
END:VEVENT
BEGIN:VEVENT
DTSTART;TZID=Europe/London:20270301T173000
DTEND;TZID=Europe/London:20270301T180000
DTSTAMP:20260426T044950
CREATED:20220406T131426Z
LAST-MODIFIED:20240311T110615Z
UID:10014566-1803922200-1803924000@www.stpeterdebeauvoir.org.uk
SUMMARY:Evening Prayer
DESCRIPTION:We begin and end most days with 20 minutes of reflective prayer in church. Prayer requests welcome. This is a wonderful way to mark the rhythm of the day! \nThe service takes place in the sanctuary of the church using an easy to follow order of service. All welcome!
URL:http://www.stpeterdebeauvoir.org.uk/event/evening-prayer-5/2027-03-01/
CATEGORIES:Morning & Evening Prayer,What's On,Worship
END:VEVENT
BEGIN:VEVENT
DTSTART;TZID=Europe/London:20270302T173000
DTEND;TZID=Europe/London:20270302T180000
DTSTAMP:20260426T044950
CREATED:20220406T131426Z
LAST-MODIFIED:20240311T110615Z
UID:10014567-1804008600-1804010400@www.stpeterdebeauvoir.org.uk
SUMMARY:Evening Prayer
DESCRIPTION:We begin and end most days with 20 minutes of reflective prayer in church. Prayer requests welcome. This is a wonderful way to mark the rhythm of the day! \nThe service takes place in the sanctuary of the church using an easy to follow order of service. All welcome!
URL:http://www.stpeterdebeauvoir.org.uk/event/evening-prayer-5/2027-03-02/
CATEGORIES:Morning & Evening Prayer,What's On,Worship
END:VEVENT
BEGIN:VEVENT
DTSTART;TZID=Europe/London:20270303T173000
DTEND;TZID=Europe/London:20270303T180000
DTSTAMP:20260426T044950
CREATED:20220406T131426Z
LAST-MODIFIED:20240311T110615Z
UID:10014568-1804095000-1804096800@www.stpeterdebeauvoir.org.uk
SUMMARY:Evening Prayer
DESCRIPTION:We begin and end most days with 20 minutes of reflective prayer in church. Prayer requests welcome. This is a wonderful way to mark the rhythm of the day! \nThe service takes place in the sanctuary of the church using an easy to follow order of service. All welcome!
URL:http://www.stpeterdebeauvoir.org.uk/event/evening-prayer-5/2027-03-03/
CATEGORIES:Morning & Evening Prayer,What's On,Worship
END:VEVENT
BEGIN:VEVENT
DTSTART;TZID=Europe/London:20270305T173000
DTEND;TZID=Europe/London:20270305T180000
DTSTAMP:20260426T044950
CREATED:20220406T131426Z
LAST-MODIFIED:20240311T110615Z
UID:10014569-1804267800-1804269600@www.stpeterdebeauvoir.org.uk
SUMMARY:Evening Prayer
DESCRIPTION:We begin and end most days with 20 minutes of reflective prayer in church. Prayer requests welcome. This is a wonderful way to mark the rhythm of the day! \nThe service takes place in the sanctuary of the church using an easy to follow order of service. All welcome!
URL:http://www.stpeterdebeauvoir.org.uk/event/evening-prayer-5/2027-03-05/
CATEGORIES:Morning & Evening Prayer,What's On,Worship
END:VEVENT
BEGIN:VEVENT
DTSTART;TZID=Europe/London:20270308T173000
DTEND;TZID=Europe/London:20270308T180000
DTSTAMP:20260426T044950
CREATED:20220406T131426Z
LAST-MODIFIED:20240311T110615Z
UID:10014570-1804527000-1804528800@www.stpeterdebeauvoir.org.uk
SUMMARY:Evening Prayer
DESCRIPTION:We begin and end most days with 20 minutes of reflective prayer in church. Prayer requests welcome. This is a wonderful way to mark the rhythm of the day! \nThe service takes place in the sanctuary of the church using an easy to follow order of service. All welcome!
URL:http://www.stpeterdebeauvoir.org.uk/event/evening-prayer-5/2027-03-08/
CATEGORIES:Morning & Evening Prayer,What's On,Worship
END:VEVENT
BEGIN:VEVENT
DTSTART;TZID=Europe/London:20270309T173000
DTEND;TZID=Europe/London:20270309T180000
DTSTAMP:20260426T044950
CREATED:20220406T131426Z
LAST-MODIFIED:20240311T110615Z
UID:10014571-1804613400-1804615200@www.stpeterdebeauvoir.org.uk
SUMMARY:Evening Prayer
DESCRIPTION:We begin and end most days with 20 minutes of reflective prayer in church. Prayer requests welcome. This is a wonderful way to mark the rhythm of the day! \nThe service takes place in the sanctuary of the church using an easy to follow order of service. All welcome!
URL:http://www.stpeterdebeauvoir.org.uk/event/evening-prayer-5/2027-03-09/
CATEGORIES:Morning & Evening Prayer,What's On,Worship
END:VEVENT
BEGIN:VEVENT
DTSTART;TZID=Europe/London:20270310T173000
DTEND;TZID=Europe/London:20270310T180000
DTSTAMP:20260426T044950
CREATED:20220406T131426Z
LAST-MODIFIED:20240311T110615Z
UID:10014572-1804699800-1804701600@www.stpeterdebeauvoir.org.uk
SUMMARY:Evening Prayer
DESCRIPTION:We begin and end most days with 20 minutes of reflective prayer in church. Prayer requests welcome. This is a wonderful way to mark the rhythm of the day! \nThe service takes place in the sanctuary of the church using an easy to follow order of service. All welcome!
URL:http://www.stpeterdebeauvoir.org.uk/event/evening-prayer-5/2027-03-10/
CATEGORIES:Morning & Evening Prayer,What's On,Worship
END:VEVENT
BEGIN:VEVENT
DTSTART;TZID=Europe/London:20270312T173000
DTEND;TZID=Europe/London:20270312T180000
DTSTAMP:20260426T044950
CREATED:20220406T131426Z
LAST-MODIFIED:20240311T110615Z
UID:10014573-1804872600-1804874400@www.stpeterdebeauvoir.org.uk
SUMMARY:Evening Prayer
DESCRIPTION:We begin and end most days with 20 minutes of reflective prayer in church. Prayer requests welcome. This is a wonderful way to mark the rhythm of the day! \nThe service takes place in the sanctuary of the church using an easy to follow order of service. All welcome!
URL:http://www.stpeterdebeauvoir.org.uk/event/evening-prayer-5/2027-03-12/
CATEGORIES:Morning & Evening Prayer,What's On,Worship
END:VEVENT
BEGIN:VEVENT
DTSTART;TZID=Europe/London:20270315T173000
DTEND;TZID=Europe/London:20270315T180000
DTSTAMP:20260426T044950
CREATED:20220406T131426Z
LAST-MODIFIED:20240311T110615Z
UID:10014574-1805131800-1805133600@www.stpeterdebeauvoir.org.uk
SUMMARY:Evening Prayer
DESCRIPTION:We begin and end most days with 20 minutes of reflective prayer in church. Prayer requests welcome. This is a wonderful way to mark the rhythm of the day! \nThe service takes place in the sanctuary of the church using an easy to follow order of service. All welcome!
URL:http://www.stpeterdebeauvoir.org.uk/event/evening-prayer-5/2027-03-15/
CATEGORIES:Morning & Evening Prayer,What's On,Worship
END:VEVENT
BEGIN:VEVENT
DTSTART;TZID=Europe/London:20270316T173000
DTEND;TZID=Europe/London:20270316T180000
DTSTAMP:20260426T044950
CREATED:20220406T131426Z
LAST-MODIFIED:20240311T110615Z
UID:10014575-1805218200-1805220000@www.stpeterdebeauvoir.org.uk
SUMMARY:Evening Prayer
DESCRIPTION:We begin and end most days with 20 minutes of reflective prayer in church. Prayer requests welcome. This is a wonderful way to mark the rhythm of the day! \nThe service takes place in the sanctuary of the church using an easy to follow order of service. All welcome!
URL:http://www.stpeterdebeauvoir.org.uk/event/evening-prayer-5/2027-03-16/
CATEGORIES:Morning & Evening Prayer,What's On,Worship
END:VEVENT
BEGIN:VEVENT
DTSTART;TZID=Europe/London:20270317T173000
DTEND;TZID=Europe/London:20270317T180000
DTSTAMP:20260426T044950
CREATED:20220406T131426Z
LAST-MODIFIED:20240311T110615Z
UID:10014576-1805304600-1805306400@www.stpeterdebeauvoir.org.uk
SUMMARY:Evening Prayer
DESCRIPTION:We begin and end most days with 20 minutes of reflective prayer in church. Prayer requests welcome. This is a wonderful way to mark the rhythm of the day! \nThe service takes place in the sanctuary of the church using an easy to follow order of service. All welcome!
URL:http://www.stpeterdebeauvoir.org.uk/event/evening-prayer-5/2027-03-17/
CATEGORIES:Morning & Evening Prayer,What's On,Worship
END:VEVENT
BEGIN:VEVENT
DTSTART;TZID=Europe/London:20270319T173000
DTEND;TZID=Europe/London:20270319T180000
DTSTAMP:20260426T044950
CREATED:20220406T131426Z
LAST-MODIFIED:20240311T110615Z
UID:10014577-1805477400-1805479200@www.stpeterdebeauvoir.org.uk
SUMMARY:Evening Prayer
DESCRIPTION:We begin and end most days with 20 minutes of reflective prayer in church. Prayer requests welcome. This is a wonderful way to mark the rhythm of the day! \nThe service takes place in the sanctuary of the church using an easy to follow order of service. All welcome!
URL:http://www.stpeterdebeauvoir.org.uk/event/evening-prayer-5/2027-03-19/
CATEGORIES:Morning & Evening Prayer,What's On,Worship
END:VEVENT
BEGIN:VEVENT
DTSTART;TZID=Europe/London:20270322T173000
DTEND;TZID=Europe/London:20270322T180000
DTSTAMP:20260426T044950
CREATED:20220406T131426Z
LAST-MODIFIED:20240311T110615Z
UID:10014578-1805736600-1805738400@www.stpeterdebeauvoir.org.uk
SUMMARY:Evening Prayer
DESCRIPTION:We begin and end most days with 20 minutes of reflective prayer in church. Prayer requests welcome. This is a wonderful way to mark the rhythm of the day! \nThe service takes place in the sanctuary of the church using an easy to follow order of service. All welcome!
URL:http://www.stpeterdebeauvoir.org.uk/event/evening-prayer-5/2027-03-22/
CATEGORIES:Morning & Evening Prayer,What's On,Worship
END:VEVENT
BEGIN:VEVENT
DTSTART;TZID=Europe/London:20270323T173000
DTEND;TZID=Europe/London:20270323T180000
DTSTAMP:20260426T044950
CREATED:20220406T131426Z
LAST-MODIFIED:20240311T110615Z
UID:10014579-1805823000-1805824800@www.stpeterdebeauvoir.org.uk
SUMMARY:Evening Prayer
DESCRIPTION:We begin and end most days with 20 minutes of reflective prayer in church. Prayer requests welcome. This is a wonderful way to mark the rhythm of the day! \nThe service takes place in the sanctuary of the church using an easy to follow order of service. All welcome!
URL:http://www.stpeterdebeauvoir.org.uk/event/evening-prayer-5/2027-03-23/
CATEGORIES:Morning & Evening Prayer,What's On,Worship
END:VEVENT
END:VCALENDAR