BEGIN:VCALENDAR
VERSION:2.0
PRODID:-//St Peter De Beauvoir - ECPv6.11.0.1//NONSGML v1.0//EN
CALSCALE:GREGORIAN
METHOD:PUBLISH
X-WR-CALNAME:St Peter De Beauvoir
X-ORIGINAL-URL:http://www.stpeterdebeauvoir.org.uk
X-WR-CALDESC:Events for St Peter De Beauvoir
REFRESH-INTERVAL;VALUE=DURATION:PT1H
X-Robots-Tag:noindex
X-PUBLISHED-TTL:PT1H
BEGIN:VTIMEZONE
TZID:Europe/London
BEGIN:DAYLIGHT
TZOFFSETFROM:+0000
TZOFFSETTO:+0100
TZNAME:BST
DTSTART:20260329T010000
END:DAYLIGHT
BEGIN:STANDARD
TZOFFSETFROM:+0100
TZOFFSETTO:+0000
TZNAME:GMT
DTSTART:20261025T010000
END:STANDARD
BEGIN:DAYLIGHT
TZOFFSETFROM:+0000
TZOFFSETTO:+0100
TZNAME:BST
DTSTART:20270328T010000
END:DAYLIGHT
BEGIN:STANDARD
TZOFFSETFROM:+0100
TZOFFSETTO:+0000
TZNAME:GMT
DTSTART:20271031T010000
END:STANDARD
END:VTIMEZONE
BEGIN:VEVENT
DTSTART;TZID=Europe/London:20261209T173000
DTEND;TZID=Europe/London:20261209T180000
DTSTAMP:20260426T001153
CREATED:20220406T131426Z
LAST-MODIFIED:20240311T110615Z
UID:10014520-1796837400-1796839200@www.stpeterdebeauvoir.org.uk
SUMMARY:Evening Prayer
DESCRIPTION:We begin and end most days with 20 minutes of reflective prayer in church. Prayer requests welcome. This is a wonderful way to mark the rhythm of the day! \nThe service takes place in the sanctuary of the church using an easy to follow order of service. All welcome!
URL:http://www.stpeterdebeauvoir.org.uk/event/evening-prayer-5/2026-12-09/
CATEGORIES:Morning & Evening Prayer,What's On,Worship
END:VEVENT
BEGIN:VEVENT
DTSTART;TZID=Europe/London:20261211T173000
DTEND;TZID=Europe/London:20261211T180000
DTSTAMP:20260426T001153
CREATED:20220406T131426Z
LAST-MODIFIED:20240311T110615Z
UID:10014521-1797010200-1797012000@www.stpeterdebeauvoir.org.uk
SUMMARY:Evening Prayer
DESCRIPTION:We begin and end most days with 20 minutes of reflective prayer in church. Prayer requests welcome. This is a wonderful way to mark the rhythm of the day! \nThe service takes place in the sanctuary of the church using an easy to follow order of service. All welcome!
URL:http://www.stpeterdebeauvoir.org.uk/event/evening-prayer-5/2026-12-11/
CATEGORIES:Morning & Evening Prayer,What's On,Worship
END:VEVENT
BEGIN:VEVENT
DTSTART;TZID=Europe/London:20261214T173000
DTEND;TZID=Europe/London:20261214T180000
DTSTAMP:20260426T001153
CREATED:20220406T131426Z
LAST-MODIFIED:20240311T110615Z
UID:10014522-1797269400-1797271200@www.stpeterdebeauvoir.org.uk
SUMMARY:Evening Prayer
DESCRIPTION:We begin and end most days with 20 minutes of reflective prayer in church. Prayer requests welcome. This is a wonderful way to mark the rhythm of the day! \nThe service takes place in the sanctuary of the church using an easy to follow order of service. All welcome!
URL:http://www.stpeterdebeauvoir.org.uk/event/evening-prayer-5/2026-12-14/
CATEGORIES:Morning & Evening Prayer,What's On,Worship
END:VEVENT
BEGIN:VEVENT
DTSTART;TZID=Europe/London:20261215T173000
DTEND;TZID=Europe/London:20261215T180000
DTSTAMP:20260426T001153
CREATED:20220406T131426Z
LAST-MODIFIED:20240311T110615Z
UID:10014523-1797355800-1797357600@www.stpeterdebeauvoir.org.uk
SUMMARY:Evening Prayer
DESCRIPTION:We begin and end most days with 20 minutes of reflective prayer in church. Prayer requests welcome. This is a wonderful way to mark the rhythm of the day! \nThe service takes place in the sanctuary of the church using an easy to follow order of service. All welcome!
URL:http://www.stpeterdebeauvoir.org.uk/event/evening-prayer-5/2026-12-15/
CATEGORIES:Morning & Evening Prayer,What's On,Worship
END:VEVENT
BEGIN:VEVENT
DTSTART;TZID=Europe/London:20261216T173000
DTEND;TZID=Europe/London:20261216T180000
DTSTAMP:20260426T001153
CREATED:20220406T131426Z
LAST-MODIFIED:20240311T110615Z
UID:10014524-1797442200-1797444000@www.stpeterdebeauvoir.org.uk
SUMMARY:Evening Prayer
DESCRIPTION:We begin and end most days with 20 minutes of reflective prayer in church. Prayer requests welcome. This is a wonderful way to mark the rhythm of the day! \nThe service takes place in the sanctuary of the church using an easy to follow order of service. All welcome!
URL:http://www.stpeterdebeauvoir.org.uk/event/evening-prayer-5/2026-12-16/
CATEGORIES:Morning & Evening Prayer,What's On,Worship
END:VEVENT
BEGIN:VEVENT
DTSTART;TZID=Europe/London:20261218T173000
DTEND;TZID=Europe/London:20261218T180000
DTSTAMP:20260426T001153
CREATED:20220406T131426Z
LAST-MODIFIED:20240311T110615Z
UID:10014525-1797615000-1797616800@www.stpeterdebeauvoir.org.uk
SUMMARY:Evening Prayer
DESCRIPTION:We begin and end most days with 20 minutes of reflective prayer in church. Prayer requests welcome. This is a wonderful way to mark the rhythm of the day! \nThe service takes place in the sanctuary of the church using an easy to follow order of service. All welcome!
URL:http://www.stpeterdebeauvoir.org.uk/event/evening-prayer-5/2026-12-18/
CATEGORIES:Morning & Evening Prayer,What's On,Worship
END:VEVENT
BEGIN:VEVENT
DTSTART;TZID=Europe/London:20261221T173000
DTEND;TZID=Europe/London:20261221T180000
DTSTAMP:20260426T001153
CREATED:20220406T131426Z
LAST-MODIFIED:20240311T110615Z
UID:10014526-1797874200-1797876000@www.stpeterdebeauvoir.org.uk
SUMMARY:Evening Prayer
DESCRIPTION:We begin and end most days with 20 minutes of reflective prayer in church. Prayer requests welcome. This is a wonderful way to mark the rhythm of the day! \nThe service takes place in the sanctuary of the church using an easy to follow order of service. All welcome!
URL:http://www.stpeterdebeauvoir.org.uk/event/evening-prayer-5/2026-12-21/
CATEGORIES:Morning & Evening Prayer,What's On,Worship
END:VEVENT
BEGIN:VEVENT
DTSTART;TZID=Europe/London:20261222T173000
DTEND;TZID=Europe/London:20261222T180000
DTSTAMP:20260426T001153
CREATED:20220406T131426Z
LAST-MODIFIED:20240311T110615Z
UID:10014527-1797960600-1797962400@www.stpeterdebeauvoir.org.uk
SUMMARY:Evening Prayer
DESCRIPTION:We begin and end most days with 20 minutes of reflective prayer in church. Prayer requests welcome. This is a wonderful way to mark the rhythm of the day! \nThe service takes place in the sanctuary of the church using an easy to follow order of service. All welcome!
URL:http://www.stpeterdebeauvoir.org.uk/event/evening-prayer-5/2026-12-22/
CATEGORIES:Morning & Evening Prayer,What's On,Worship
END:VEVENT
BEGIN:VEVENT
DTSTART;TZID=Europe/London:20261223T173000
DTEND;TZID=Europe/London:20261223T180000
DTSTAMP:20260426T001153
CREATED:20220406T131426Z
LAST-MODIFIED:20240311T110615Z
UID:10014528-1798047000-1798048800@www.stpeterdebeauvoir.org.uk
SUMMARY:Evening Prayer
DESCRIPTION:We begin and end most days with 20 minutes of reflective prayer in church. Prayer requests welcome. This is a wonderful way to mark the rhythm of the day! \nThe service takes place in the sanctuary of the church using an easy to follow order of service. All welcome!
URL:http://www.stpeterdebeauvoir.org.uk/event/evening-prayer-5/2026-12-23/
CATEGORIES:Morning & Evening Prayer,What's On,Worship
END:VEVENT
BEGIN:VEVENT
DTSTART;TZID=Europe/London:20261225T173000
DTEND;TZID=Europe/London:20261225T180000
DTSTAMP:20260426T001153
CREATED:20220406T131426Z
LAST-MODIFIED:20240311T110615Z
UID:10014529-1798219800-1798221600@www.stpeterdebeauvoir.org.uk
SUMMARY:Evening Prayer
DESCRIPTION:We begin and end most days with 20 minutes of reflective prayer in church. Prayer requests welcome. This is a wonderful way to mark the rhythm of the day! \nThe service takes place in the sanctuary of the church using an easy to follow order of service. All welcome!
URL:http://www.stpeterdebeauvoir.org.uk/event/evening-prayer-5/2026-12-25/
CATEGORIES:Morning & Evening Prayer,What's On,Worship
END:VEVENT
BEGIN:VEVENT
DTSTART;TZID=Europe/London:20261228T173000
DTEND;TZID=Europe/London:20261228T180000
DTSTAMP:20260426T001153
CREATED:20220406T131426Z
LAST-MODIFIED:20240311T110615Z
UID:10014530-1798479000-1798480800@www.stpeterdebeauvoir.org.uk
SUMMARY:Evening Prayer
DESCRIPTION:We begin and end most days with 20 minutes of reflective prayer in church. Prayer requests welcome. This is a wonderful way to mark the rhythm of the day! \nThe service takes place in the sanctuary of the church using an easy to follow order of service. All welcome!
URL:http://www.stpeterdebeauvoir.org.uk/event/evening-prayer-5/2026-12-28/
CATEGORIES:Morning & Evening Prayer,What's On,Worship
END:VEVENT
BEGIN:VEVENT
DTSTART;TZID=Europe/London:20261229T173000
DTEND;TZID=Europe/London:20261229T180000
DTSTAMP:20260426T001153
CREATED:20220406T131426Z
LAST-MODIFIED:20240311T110615Z
UID:10014531-1798565400-1798567200@www.stpeterdebeauvoir.org.uk
SUMMARY:Evening Prayer
DESCRIPTION:We begin and end most days with 20 minutes of reflective prayer in church. Prayer requests welcome. This is a wonderful way to mark the rhythm of the day! \nThe service takes place in the sanctuary of the church using an easy to follow order of service. All welcome!
URL:http://www.stpeterdebeauvoir.org.uk/event/evening-prayer-5/2026-12-29/
CATEGORIES:Morning & Evening Prayer,What's On,Worship
END:VEVENT
BEGIN:VEVENT
DTSTART;TZID=Europe/London:20261230T173000
DTEND;TZID=Europe/London:20261230T180000
DTSTAMP:20260426T001153
CREATED:20220406T131426Z
LAST-MODIFIED:20240311T110615Z
UID:10014532-1798651800-1798653600@www.stpeterdebeauvoir.org.uk
SUMMARY:Evening Prayer
DESCRIPTION:We begin and end most days with 20 minutes of reflective prayer in church. Prayer requests welcome. This is a wonderful way to mark the rhythm of the day! \nThe service takes place in the sanctuary of the church using an easy to follow order of service. All welcome!
URL:http://www.stpeterdebeauvoir.org.uk/event/evening-prayer-5/2026-12-30/
CATEGORIES:Morning & Evening Prayer,What's On,Worship
END:VEVENT
BEGIN:VEVENT
DTSTART;TZID=Europe/London:20270101T173000
DTEND;TZID=Europe/London:20270101T180000
DTSTAMP:20260426T001153
CREATED:20220406T131426Z
LAST-MODIFIED:20240311T110615Z
UID:10014533-1798824600-1798826400@www.stpeterdebeauvoir.org.uk
SUMMARY:Evening Prayer
DESCRIPTION:We begin and end most days with 20 minutes of reflective prayer in church. Prayer requests welcome. This is a wonderful way to mark the rhythm of the day! \nThe service takes place in the sanctuary of the church using an easy to follow order of service. All welcome!
URL:http://www.stpeterdebeauvoir.org.uk/event/evening-prayer-5/2027-01-01/
CATEGORIES:Morning & Evening Prayer,What's On,Worship
END:VEVENT
BEGIN:VEVENT
DTSTART;TZID=Europe/London:20270104T173000
DTEND;TZID=Europe/London:20270104T180000
DTSTAMP:20260426T001153
CREATED:20220406T131426Z
LAST-MODIFIED:20240311T110615Z
UID:10014534-1799083800-1799085600@www.stpeterdebeauvoir.org.uk
SUMMARY:Evening Prayer
DESCRIPTION:We begin and end most days with 20 minutes of reflective prayer in church. Prayer requests welcome. This is a wonderful way to mark the rhythm of the day! \nThe service takes place in the sanctuary of the church using an easy to follow order of service. All welcome!
URL:http://www.stpeterdebeauvoir.org.uk/event/evening-prayer-5/2027-01-04/
CATEGORIES:Morning & Evening Prayer,What's On,Worship
END:VEVENT
BEGIN:VEVENT
DTSTART;TZID=Europe/London:20270105T173000
DTEND;TZID=Europe/London:20270105T180000
DTSTAMP:20260426T001153
CREATED:20220406T131426Z
LAST-MODIFIED:20240311T110615Z
UID:10014535-1799170200-1799172000@www.stpeterdebeauvoir.org.uk
SUMMARY:Evening Prayer
DESCRIPTION:We begin and end most days with 20 minutes of reflective prayer in church. Prayer requests welcome. This is a wonderful way to mark the rhythm of the day! \nThe service takes place in the sanctuary of the church using an easy to follow order of service. All welcome!
URL:http://www.stpeterdebeauvoir.org.uk/event/evening-prayer-5/2027-01-05/
CATEGORIES:Morning & Evening Prayer,What's On,Worship
END:VEVENT
BEGIN:VEVENT
DTSTART;TZID=Europe/London:20270106T173000
DTEND;TZID=Europe/London:20270106T180000
DTSTAMP:20260426T001153
CREATED:20220406T131426Z
LAST-MODIFIED:20240311T110615Z
UID:10014536-1799256600-1799258400@www.stpeterdebeauvoir.org.uk
SUMMARY:Evening Prayer
DESCRIPTION:We begin and end most days with 20 minutes of reflective prayer in church. Prayer requests welcome. This is a wonderful way to mark the rhythm of the day! \nThe service takes place in the sanctuary of the church using an easy to follow order of service. All welcome!
URL:http://www.stpeterdebeauvoir.org.uk/event/evening-prayer-5/2027-01-06/
CATEGORIES:Morning & Evening Prayer,What's On,Worship
END:VEVENT
BEGIN:VEVENT
DTSTART;TZID=Europe/London:20270108T173000
DTEND;TZID=Europe/London:20270108T180000
DTSTAMP:20260426T001153
CREATED:20220406T131426Z
LAST-MODIFIED:20240311T110615Z
UID:10014537-1799429400-1799431200@www.stpeterdebeauvoir.org.uk
SUMMARY:Evening Prayer
DESCRIPTION:We begin and end most days with 20 minutes of reflective prayer in church. Prayer requests welcome. This is a wonderful way to mark the rhythm of the day! \nThe service takes place in the sanctuary of the church using an easy to follow order of service. All welcome!
URL:http://www.stpeterdebeauvoir.org.uk/event/evening-prayer-5/2027-01-08/
CATEGORIES:Morning & Evening Prayer,What's On,Worship
END:VEVENT
BEGIN:VEVENT
DTSTART;TZID=Europe/London:20270111T173000
DTEND;TZID=Europe/London:20270111T180000
DTSTAMP:20260426T001153
CREATED:20220406T131426Z
LAST-MODIFIED:20240311T110615Z
UID:10014538-1799688600-1799690400@www.stpeterdebeauvoir.org.uk
SUMMARY:Evening Prayer
DESCRIPTION:We begin and end most days with 20 minutes of reflective prayer in church. Prayer requests welcome. This is a wonderful way to mark the rhythm of the day! \nThe service takes place in the sanctuary of the church using an easy to follow order of service. All welcome!
URL:http://www.stpeterdebeauvoir.org.uk/event/evening-prayer-5/2027-01-11/
CATEGORIES:Morning & Evening Prayer,What's On,Worship
END:VEVENT
BEGIN:VEVENT
DTSTART;TZID=Europe/London:20270112T173000
DTEND;TZID=Europe/London:20270112T180000
DTSTAMP:20260426T001153
CREATED:20220406T131426Z
LAST-MODIFIED:20240311T110615Z
UID:10014539-1799775000-1799776800@www.stpeterdebeauvoir.org.uk
SUMMARY:Evening Prayer
DESCRIPTION:We begin and end most days with 20 minutes of reflective prayer in church. Prayer requests welcome. This is a wonderful way to mark the rhythm of the day! \nThe service takes place in the sanctuary of the church using an easy to follow order of service. All welcome!
URL:http://www.stpeterdebeauvoir.org.uk/event/evening-prayer-5/2027-01-12/
CATEGORIES:Morning & Evening Prayer,What's On,Worship
END:VEVENT
BEGIN:VEVENT
DTSTART;TZID=Europe/London:20270113T173000
DTEND;TZID=Europe/London:20270113T180000
DTSTAMP:20260426T001153
CREATED:20220406T131426Z
LAST-MODIFIED:20240311T110615Z
UID:10014540-1799861400-1799863200@www.stpeterdebeauvoir.org.uk
SUMMARY:Evening Prayer
DESCRIPTION:We begin and end most days with 20 minutes of reflective prayer in church. Prayer requests welcome. This is a wonderful way to mark the rhythm of the day! \nThe service takes place in the sanctuary of the church using an easy to follow order of service. All welcome!
URL:http://www.stpeterdebeauvoir.org.uk/event/evening-prayer-5/2027-01-13/
CATEGORIES:Morning & Evening Prayer,What's On,Worship
END:VEVENT
BEGIN:VEVENT
DTSTART;TZID=Europe/London:20270115T173000
DTEND;TZID=Europe/London:20270115T180000
DTSTAMP:20260426T001153
CREATED:20220406T131426Z
LAST-MODIFIED:20240311T110615Z
UID:10014541-1800034200-1800036000@www.stpeterdebeauvoir.org.uk
SUMMARY:Evening Prayer
DESCRIPTION:We begin and end most days with 20 minutes of reflective prayer in church. Prayer requests welcome. This is a wonderful way to mark the rhythm of the day! \nThe service takes place in the sanctuary of the church using an easy to follow order of service. All welcome!
URL:http://www.stpeterdebeauvoir.org.uk/event/evening-prayer-5/2027-01-15/
CATEGORIES:Morning & Evening Prayer,What's On,Worship
END:VEVENT
BEGIN:VEVENT
DTSTART;TZID=Europe/London:20270118T173000
DTEND;TZID=Europe/London:20270118T180000
DTSTAMP:20260426T001153
CREATED:20220406T131426Z
LAST-MODIFIED:20240311T110615Z
UID:10014542-1800293400-1800295200@www.stpeterdebeauvoir.org.uk
SUMMARY:Evening Prayer
DESCRIPTION:We begin and end most days with 20 minutes of reflective prayer in church. Prayer requests welcome. This is a wonderful way to mark the rhythm of the day! \nThe service takes place in the sanctuary of the church using an easy to follow order of service. All welcome!
URL:http://www.stpeterdebeauvoir.org.uk/event/evening-prayer-5/2027-01-18/
CATEGORIES:Morning & Evening Prayer,What's On,Worship
END:VEVENT
BEGIN:VEVENT
DTSTART;TZID=Europe/London:20270119T173000
DTEND;TZID=Europe/London:20270119T180000
DTSTAMP:20260426T001153
CREATED:20220406T131426Z
LAST-MODIFIED:20240311T110615Z
UID:10014543-1800379800-1800381600@www.stpeterdebeauvoir.org.uk
SUMMARY:Evening Prayer
DESCRIPTION:We begin and end most days with 20 minutes of reflective prayer in church. Prayer requests welcome. This is a wonderful way to mark the rhythm of the day! \nThe service takes place in the sanctuary of the church using an easy to follow order of service. All welcome!
URL:http://www.stpeterdebeauvoir.org.uk/event/evening-prayer-5/2027-01-19/
CATEGORIES:Morning & Evening Prayer,What's On,Worship
END:VEVENT
BEGIN:VEVENT
DTSTART;TZID=Europe/London:20270120T173000
DTEND;TZID=Europe/London:20270120T180000
DTSTAMP:20260426T001153
CREATED:20220406T131426Z
LAST-MODIFIED:20240311T110615Z
UID:10014544-1800466200-1800468000@www.stpeterdebeauvoir.org.uk
SUMMARY:Evening Prayer
DESCRIPTION:We begin and end most days with 20 minutes of reflective prayer in church. Prayer requests welcome. This is a wonderful way to mark the rhythm of the day! \nThe service takes place in the sanctuary of the church using an easy to follow order of service. All welcome!
URL:http://www.stpeterdebeauvoir.org.uk/event/evening-prayer-5/2027-01-20/
CATEGORIES:Morning & Evening Prayer,What's On,Worship
END:VEVENT
BEGIN:VEVENT
DTSTART;TZID=Europe/London:20270122T173000
DTEND;TZID=Europe/London:20270122T180000
DTSTAMP:20260426T001153
CREATED:20220406T131426Z
LAST-MODIFIED:20240311T110615Z
UID:10014545-1800639000-1800640800@www.stpeterdebeauvoir.org.uk
SUMMARY:Evening Prayer
DESCRIPTION:We begin and end most days with 20 minutes of reflective prayer in church. Prayer requests welcome. This is a wonderful way to mark the rhythm of the day! \nThe service takes place in the sanctuary of the church using an easy to follow order of service. All welcome!
URL:http://www.stpeterdebeauvoir.org.uk/event/evening-prayer-5/2027-01-22/
CATEGORIES:Morning & Evening Prayer,What's On,Worship
END:VEVENT
BEGIN:VEVENT
DTSTART;TZID=Europe/London:20270125T173000
DTEND;TZID=Europe/London:20270125T180000
DTSTAMP:20260426T001153
CREATED:20220406T131426Z
LAST-MODIFIED:20240311T110615Z
UID:10014546-1800898200-1800900000@www.stpeterdebeauvoir.org.uk
SUMMARY:Evening Prayer
DESCRIPTION:We begin and end most days with 20 minutes of reflective prayer in church. Prayer requests welcome. This is a wonderful way to mark the rhythm of the day! \nThe service takes place in the sanctuary of the church using an easy to follow order of service. All welcome!
URL:http://www.stpeterdebeauvoir.org.uk/event/evening-prayer-5/2027-01-25/
CATEGORIES:Morning & Evening Prayer,What's On,Worship
END:VEVENT
BEGIN:VEVENT
DTSTART;TZID=Europe/London:20270126T173000
DTEND;TZID=Europe/London:20270126T180000
DTSTAMP:20260426T001153
CREATED:20220406T131426Z
LAST-MODIFIED:20240311T110615Z
UID:10014547-1800984600-1800986400@www.stpeterdebeauvoir.org.uk
SUMMARY:Evening Prayer
DESCRIPTION:We begin and end most days with 20 minutes of reflective prayer in church. Prayer requests welcome. This is a wonderful way to mark the rhythm of the day! \nThe service takes place in the sanctuary of the church using an easy to follow order of service. All welcome!
URL:http://www.stpeterdebeauvoir.org.uk/event/evening-prayer-5/2027-01-26/
CATEGORIES:Morning & Evening Prayer,What's On,Worship
END:VEVENT
BEGIN:VEVENT
DTSTART;TZID=Europe/London:20270127T173000
DTEND;TZID=Europe/London:20270127T180000
DTSTAMP:20260426T001153
CREATED:20220406T131426Z
LAST-MODIFIED:20240311T110615Z
UID:10014548-1801071000-1801072800@www.stpeterdebeauvoir.org.uk
SUMMARY:Evening Prayer
DESCRIPTION:We begin and end most days with 20 minutes of reflective prayer in church. Prayer requests welcome. This is a wonderful way to mark the rhythm of the day! \nThe service takes place in the sanctuary of the church using an easy to follow order of service. All welcome!
URL:http://www.stpeterdebeauvoir.org.uk/event/evening-prayer-5/2027-01-27/
CATEGORIES:Morning & Evening Prayer,What's On,Worship
END:VEVENT
BEGIN:VEVENT
DTSTART;TZID=Europe/London:20270129T173000
DTEND;TZID=Europe/London:20270129T180000
DTSTAMP:20260426T001153
CREATED:20220406T131426Z
LAST-MODIFIED:20240311T110615Z
UID:10014549-1801243800-1801245600@www.stpeterdebeauvoir.org.uk
SUMMARY:Evening Prayer
DESCRIPTION:We begin and end most days with 20 minutes of reflective prayer in church. Prayer requests welcome. This is a wonderful way to mark the rhythm of the day! \nThe service takes place in the sanctuary of the church using an easy to follow order of service. All welcome!
URL:http://www.stpeterdebeauvoir.org.uk/event/evening-prayer-5/2027-01-29/
CATEGORIES:Morning & Evening Prayer,What's On,Worship
END:VEVENT
END:VCALENDAR