BEGIN:VCALENDAR
VERSION:2.0
PRODID:-//St Peter De Beauvoir - ECPv6.11.0.1//NONSGML v1.0//EN
CALSCALE:GREGORIAN
METHOD:PUBLISH
X-ORIGINAL-URL:http://www.stpeterdebeauvoir.org.uk
X-WR-CALDESC:Events for St Peter De Beauvoir
REFRESH-INTERVAL;VALUE=DURATION:PT1H
X-Robots-Tag:noindex
X-PUBLISHED-TTL:PT1H
BEGIN:VTIMEZONE
TZID:Europe/London
BEGIN:DAYLIGHT
TZOFFSETFROM:+0000
TZOFFSETTO:+0100
TZNAME:BST
DTSTART:20260329T010000
END:DAYLIGHT
BEGIN:STANDARD
TZOFFSETFROM:+0100
TZOFFSETTO:+0000
TZNAME:GMT
DTSTART:20261025T010000
END:STANDARD
END:VTIMEZONE
BEGIN:VEVENT
DTSTART;TZID=Europe/London:20261104T173000
DTEND;TZID=Europe/London:20261104T180000
DTSTAMP:20260425T205114
CREATED:20220406T131426Z
LAST-MODIFIED:20240311T110615Z
UID:10014500-1793813400-1793815200@www.stpeterdebeauvoir.org.uk
SUMMARY:Evening Prayer
DESCRIPTION:We begin and end most days with 20 minutes of reflective prayer in church. Prayer requests welcome. This is a wonderful way to mark the rhythm of the day! \nThe service takes place in the sanctuary of the church using an easy to follow order of service. All welcome!
URL:http://www.stpeterdebeauvoir.org.uk/event/evening-prayer-5/2026-11-04/
CATEGORIES:Morning & Evening Prayer,What's On,Worship
END:VEVENT
BEGIN:VEVENT
DTSTART;TZID=Europe/London:20261106T173000
DTEND;TZID=Europe/London:20261106T180000
DTSTAMP:20260425T205114
CREATED:20220406T131426Z
LAST-MODIFIED:20240311T110615Z
UID:10014501-1793986200-1793988000@www.stpeterdebeauvoir.org.uk
SUMMARY:Evening Prayer
DESCRIPTION:We begin and end most days with 20 minutes of reflective prayer in church. Prayer requests welcome. This is a wonderful way to mark the rhythm of the day! \nThe service takes place in the sanctuary of the church using an easy to follow order of service. All welcome!
URL:http://www.stpeterdebeauvoir.org.uk/event/evening-prayer-5/2026-11-06/
CATEGORIES:Morning & Evening Prayer,What's On,Worship
END:VEVENT
BEGIN:VEVENT
DTSTART;TZID=Europe/London:20261109T173000
DTEND;TZID=Europe/London:20261109T180000
DTSTAMP:20260425T205114
CREATED:20220406T131426Z
LAST-MODIFIED:20240311T110615Z
UID:10014502-1794245400-1794247200@www.stpeterdebeauvoir.org.uk
SUMMARY:Evening Prayer
DESCRIPTION:We begin and end most days with 20 minutes of reflective prayer in church. Prayer requests welcome. This is a wonderful way to mark the rhythm of the day! \nThe service takes place in the sanctuary of the church using an easy to follow order of service. All welcome!
URL:http://www.stpeterdebeauvoir.org.uk/event/evening-prayer-5/2026-11-09/
CATEGORIES:Morning & Evening Prayer,What's On,Worship
END:VEVENT
BEGIN:VEVENT
DTSTART;TZID=Europe/London:20261110T173000
DTEND;TZID=Europe/London:20261110T180000
DTSTAMP:20260425T205114
CREATED:20220406T131426Z
LAST-MODIFIED:20240311T110615Z
UID:10014503-1794331800-1794333600@www.stpeterdebeauvoir.org.uk
SUMMARY:Evening Prayer
DESCRIPTION:We begin and end most days with 20 minutes of reflective prayer in church. Prayer requests welcome. This is a wonderful way to mark the rhythm of the day! \nThe service takes place in the sanctuary of the church using an easy to follow order of service. All welcome!
URL:http://www.stpeterdebeauvoir.org.uk/event/evening-prayer-5/2026-11-10/
CATEGORIES:Morning & Evening Prayer,What's On,Worship
END:VEVENT
BEGIN:VEVENT
DTSTART;TZID=Europe/London:20261111T173000
DTEND;TZID=Europe/London:20261111T180000
DTSTAMP:20260425T205114
CREATED:20220406T131426Z
LAST-MODIFIED:20240311T110615Z
UID:10014504-1794418200-1794420000@www.stpeterdebeauvoir.org.uk
SUMMARY:Evening Prayer
DESCRIPTION:We begin and end most days with 20 minutes of reflective prayer in church. Prayer requests welcome. This is a wonderful way to mark the rhythm of the day! \nThe service takes place in the sanctuary of the church using an easy to follow order of service. All welcome!
URL:http://www.stpeterdebeauvoir.org.uk/event/evening-prayer-5/2026-11-11/
CATEGORIES:Morning & Evening Prayer,What's On,Worship
END:VEVENT
BEGIN:VEVENT
DTSTART;TZID=Europe/London:20261113T173000
DTEND;TZID=Europe/London:20261113T180000
DTSTAMP:20260425T205114
CREATED:20220406T131426Z
LAST-MODIFIED:20240311T110615Z
UID:10014505-1794591000-1794592800@www.stpeterdebeauvoir.org.uk
SUMMARY:Evening Prayer
DESCRIPTION:We begin and end most days with 20 minutes of reflective prayer in church. Prayer requests welcome. This is a wonderful way to mark the rhythm of the day! \nThe service takes place in the sanctuary of the church using an easy to follow order of service. All welcome!
URL:http://www.stpeterdebeauvoir.org.uk/event/evening-prayer-5/2026-11-13/
CATEGORIES:Morning & Evening Prayer,What's On,Worship
END:VEVENT
BEGIN:VEVENT
DTSTART;TZID=Europe/London:20261116T173000
DTEND;TZID=Europe/London:20261116T180000
DTSTAMP:20260425T205114
CREATED:20220406T131426Z
LAST-MODIFIED:20240311T110615Z
UID:10014506-1794850200-1794852000@www.stpeterdebeauvoir.org.uk
SUMMARY:Evening Prayer
DESCRIPTION:We begin and end most days with 20 minutes of reflective prayer in church. Prayer requests welcome. This is a wonderful way to mark the rhythm of the day! \nThe service takes place in the sanctuary of the church using an easy to follow order of service. All welcome!
URL:http://www.stpeterdebeauvoir.org.uk/event/evening-prayer-5/2026-11-16/
CATEGORIES:Morning & Evening Prayer,What's On,Worship
END:VEVENT
BEGIN:VEVENT
DTSTART;TZID=Europe/London:20261117T173000
DTEND;TZID=Europe/London:20261117T180000
DTSTAMP:20260425T205114
CREATED:20220406T131426Z
LAST-MODIFIED:20240311T110615Z
UID:10014507-1794936600-1794938400@www.stpeterdebeauvoir.org.uk
SUMMARY:Evening Prayer
DESCRIPTION:We begin and end most days with 20 minutes of reflective prayer in church. Prayer requests welcome. This is a wonderful way to mark the rhythm of the day! \nThe service takes place in the sanctuary of the church using an easy to follow order of service. All welcome!
URL:http://www.stpeterdebeauvoir.org.uk/event/evening-prayer-5/2026-11-17/
CATEGORIES:Morning & Evening Prayer,What's On,Worship
END:VEVENT
BEGIN:VEVENT
DTSTART;TZID=Europe/London:20261118T173000
DTEND;TZID=Europe/London:20261118T180000
DTSTAMP:20260425T205114
CREATED:20220406T131426Z
LAST-MODIFIED:20240311T110615Z
UID:10014508-1795023000-1795024800@www.stpeterdebeauvoir.org.uk
SUMMARY:Evening Prayer
DESCRIPTION:We begin and end most days with 20 minutes of reflective prayer in church. Prayer requests welcome. This is a wonderful way to mark the rhythm of the day! \nThe service takes place in the sanctuary of the church using an easy to follow order of service. All welcome!
URL:http://www.stpeterdebeauvoir.org.uk/event/evening-prayer-5/2026-11-18/
CATEGORIES:Morning & Evening Prayer,What's On,Worship
END:VEVENT
BEGIN:VEVENT
DTSTART;TZID=Europe/London:20261120T173000
DTEND;TZID=Europe/London:20261120T180000
DTSTAMP:20260425T205114
CREATED:20220406T131426Z
LAST-MODIFIED:20240311T110615Z
UID:10014509-1795195800-1795197600@www.stpeterdebeauvoir.org.uk
SUMMARY:Evening Prayer
DESCRIPTION:We begin and end most days with 20 minutes of reflective prayer in church. Prayer requests welcome. This is a wonderful way to mark the rhythm of the day! \nThe service takes place in the sanctuary of the church using an easy to follow order of service. All welcome!
URL:http://www.stpeterdebeauvoir.org.uk/event/evening-prayer-5/2026-11-20/
CATEGORIES:Morning & Evening Prayer,What's On,Worship
END:VEVENT
BEGIN:VEVENT
DTSTART;TZID=Europe/London:20261123T173000
DTEND;TZID=Europe/London:20261123T180000
DTSTAMP:20260425T205114
CREATED:20220406T131426Z
LAST-MODIFIED:20240311T110615Z
UID:10014510-1795455000-1795456800@www.stpeterdebeauvoir.org.uk
SUMMARY:Evening Prayer
DESCRIPTION:We begin and end most days with 20 minutes of reflective prayer in church. Prayer requests welcome. This is a wonderful way to mark the rhythm of the day! \nThe service takes place in the sanctuary of the church using an easy to follow order of service. All welcome!
URL:http://www.stpeterdebeauvoir.org.uk/event/evening-prayer-5/2026-11-23/
CATEGORIES:Morning & Evening Prayer,What's On,Worship
END:VEVENT
BEGIN:VEVENT
DTSTART;TZID=Europe/London:20261124T173000
DTEND;TZID=Europe/London:20261124T180000
DTSTAMP:20260425T205114
CREATED:20220406T131426Z
LAST-MODIFIED:20240311T110615Z
UID:10014511-1795541400-1795543200@www.stpeterdebeauvoir.org.uk
SUMMARY:Evening Prayer
DESCRIPTION:We begin and end most days with 20 minutes of reflective prayer in church. Prayer requests welcome. This is a wonderful way to mark the rhythm of the day! \nThe service takes place in the sanctuary of the church using an easy to follow order of service. All welcome!
URL:http://www.stpeterdebeauvoir.org.uk/event/evening-prayer-5/2026-11-24/
CATEGORIES:Morning & Evening Prayer,What's On,Worship
END:VEVENT
BEGIN:VEVENT
DTSTART;TZID=Europe/London:20261125T173000
DTEND;TZID=Europe/London:20261125T180000
DTSTAMP:20260425T205114
CREATED:20220406T131426Z
LAST-MODIFIED:20240311T110615Z
UID:10014512-1795627800-1795629600@www.stpeterdebeauvoir.org.uk
SUMMARY:Evening Prayer
DESCRIPTION:We begin and end most days with 20 minutes of reflective prayer in church. Prayer requests welcome. This is a wonderful way to mark the rhythm of the day! \nThe service takes place in the sanctuary of the church using an easy to follow order of service. All welcome!
URL:http://www.stpeterdebeauvoir.org.uk/event/evening-prayer-5/2026-11-25/
CATEGORIES:Morning & Evening Prayer,What's On,Worship
END:VEVENT
BEGIN:VEVENT
DTSTART;TZID=Europe/London:20261127T173000
DTEND;TZID=Europe/London:20261127T180000
DTSTAMP:20260425T205114
CREATED:20220406T131426Z
LAST-MODIFIED:20240311T110615Z
UID:10014513-1795800600-1795802400@www.stpeterdebeauvoir.org.uk
SUMMARY:Evening Prayer
DESCRIPTION:We begin and end most days with 20 minutes of reflective prayer in church. Prayer requests welcome. This is a wonderful way to mark the rhythm of the day! \nThe service takes place in the sanctuary of the church using an easy to follow order of service. All welcome!
URL:http://www.stpeterdebeauvoir.org.uk/event/evening-prayer-5/2026-11-27/
CATEGORIES:Morning & Evening Prayer,What's On,Worship
END:VEVENT
BEGIN:VEVENT
DTSTART;TZID=Europe/London:20261130T173000
DTEND;TZID=Europe/London:20261130T180000
DTSTAMP:20260425T205114
CREATED:20220406T131426Z
LAST-MODIFIED:20240311T110615Z
UID:10014514-1796059800-1796061600@www.stpeterdebeauvoir.org.uk
SUMMARY:Evening Prayer
DESCRIPTION:We begin and end most days with 20 minutes of reflective prayer in church. Prayer requests welcome. This is a wonderful way to mark the rhythm of the day! \nThe service takes place in the sanctuary of the church using an easy to follow order of service. All welcome!
URL:http://www.stpeterdebeauvoir.org.uk/event/evening-prayer-5/2026-11-30/
CATEGORIES:Morning & Evening Prayer,What's On,Worship
END:VEVENT
BEGIN:VEVENT
DTSTART;TZID=Europe/London:20261201T173000
DTEND;TZID=Europe/London:20261201T180000
DTSTAMP:20260425T205114
CREATED:20220406T131426Z
LAST-MODIFIED:20240311T110615Z
UID:10014515-1796146200-1796148000@www.stpeterdebeauvoir.org.uk
SUMMARY:Evening Prayer
DESCRIPTION:We begin and end most days with 20 minutes of reflective prayer in church. Prayer requests welcome. This is a wonderful way to mark the rhythm of the day! \nThe service takes place in the sanctuary of the church using an easy to follow order of service. All welcome!
URL:http://www.stpeterdebeauvoir.org.uk/event/evening-prayer-5/2026-12-01/
CATEGORIES:Morning & Evening Prayer,What's On,Worship
END:VEVENT
BEGIN:VEVENT
DTSTART;TZID=Europe/London:20261202T173000
DTEND;TZID=Europe/London:20261202T180000
DTSTAMP:20260425T205114
CREATED:20220406T131426Z
LAST-MODIFIED:20240311T110615Z
UID:10014516-1796232600-1796234400@www.stpeterdebeauvoir.org.uk
SUMMARY:Evening Prayer
DESCRIPTION:We begin and end most days with 20 minutes of reflective prayer in church. Prayer requests welcome. This is a wonderful way to mark the rhythm of the day! \nThe service takes place in the sanctuary of the church using an easy to follow order of service. All welcome!
URL:http://www.stpeterdebeauvoir.org.uk/event/evening-prayer-5/2026-12-02/
CATEGORIES:Morning & Evening Prayer,What's On,Worship
END:VEVENT
BEGIN:VEVENT
DTSTART;TZID=Europe/London:20261204T173000
DTEND;TZID=Europe/London:20261204T180000
DTSTAMP:20260425T205114
CREATED:20220406T131426Z
LAST-MODIFIED:20240311T110615Z
UID:10014517-1796405400-1796407200@www.stpeterdebeauvoir.org.uk
SUMMARY:Evening Prayer
DESCRIPTION:We begin and end most days with 20 minutes of reflective prayer in church. Prayer requests welcome. This is a wonderful way to mark the rhythm of the day! \nThe service takes place in the sanctuary of the church using an easy to follow order of service. All welcome!
URL:http://www.stpeterdebeauvoir.org.uk/event/evening-prayer-5/2026-12-04/
CATEGORIES:Morning & Evening Prayer,What's On,Worship
END:VEVENT
BEGIN:VEVENT
DTSTART;TZID=Europe/London:20261207T173000
DTEND;TZID=Europe/London:20261207T180000
DTSTAMP:20260425T205114
CREATED:20220406T131426Z
LAST-MODIFIED:20240311T110615Z
UID:10014518-1796664600-1796666400@www.stpeterdebeauvoir.org.uk
SUMMARY:Evening Prayer
DESCRIPTION:We begin and end most days with 20 minutes of reflective prayer in church. Prayer requests welcome. This is a wonderful way to mark the rhythm of the day! \nThe service takes place in the sanctuary of the church using an easy to follow order of service. All welcome!
URL:http://www.stpeterdebeauvoir.org.uk/event/evening-prayer-5/2026-12-07/
CATEGORIES:Morning & Evening Prayer,What's On,Worship
END:VEVENT
BEGIN:VEVENT
DTSTART;TZID=Europe/London:20261208T173000
DTEND;TZID=Europe/London:20261208T180000
DTSTAMP:20260425T205114
CREATED:20220406T131426Z
LAST-MODIFIED:20240311T110615Z
UID:10014519-1796751000-1796752800@www.stpeterdebeauvoir.org.uk
SUMMARY:Evening Prayer
DESCRIPTION:We begin and end most days with 20 minutes of reflective prayer in church. Prayer requests welcome. This is a wonderful way to mark the rhythm of the day! \nThe service takes place in the sanctuary of the church using an easy to follow order of service. All welcome!
URL:http://www.stpeterdebeauvoir.org.uk/event/evening-prayer-5/2026-12-08/
CATEGORIES:Morning & Evening Prayer,What's On,Worship
END:VEVENT
BEGIN:VEVENT
DTSTART;TZID=Europe/London:20261209T173000
DTEND;TZID=Europe/London:20261209T180000
DTSTAMP:20260425T205114
CREATED:20220406T131426Z
LAST-MODIFIED:20240311T110615Z
UID:10014520-1796837400-1796839200@www.stpeterdebeauvoir.org.uk
SUMMARY:Evening Prayer
DESCRIPTION:We begin and end most days with 20 minutes of reflective prayer in church. Prayer requests welcome. This is a wonderful way to mark the rhythm of the day! \nThe service takes place in the sanctuary of the church using an easy to follow order of service. All welcome!
URL:http://www.stpeterdebeauvoir.org.uk/event/evening-prayer-5/2026-12-09/
CATEGORIES:Morning & Evening Prayer,What's On,Worship
END:VEVENT
BEGIN:VEVENT
DTSTART;TZID=Europe/London:20261211T173000
DTEND;TZID=Europe/London:20261211T180000
DTSTAMP:20260425T205114
CREATED:20220406T131426Z
LAST-MODIFIED:20240311T110615Z
UID:10014521-1797010200-1797012000@www.stpeterdebeauvoir.org.uk
SUMMARY:Evening Prayer
DESCRIPTION:We begin and end most days with 20 minutes of reflective prayer in church. Prayer requests welcome. This is a wonderful way to mark the rhythm of the day! \nThe service takes place in the sanctuary of the church using an easy to follow order of service. All welcome!
URL:http://www.stpeterdebeauvoir.org.uk/event/evening-prayer-5/2026-12-11/
CATEGORIES:Morning & Evening Prayer,What's On,Worship
END:VEVENT
BEGIN:VEVENT
DTSTART;TZID=Europe/London:20261214T173000
DTEND;TZID=Europe/London:20261214T180000
DTSTAMP:20260425T205114
CREATED:20220406T131426Z
LAST-MODIFIED:20240311T110615Z
UID:10014522-1797269400-1797271200@www.stpeterdebeauvoir.org.uk
SUMMARY:Evening Prayer
DESCRIPTION:We begin and end most days with 20 minutes of reflective prayer in church. Prayer requests welcome. This is a wonderful way to mark the rhythm of the day! \nThe service takes place in the sanctuary of the church using an easy to follow order of service. All welcome!
URL:http://www.stpeterdebeauvoir.org.uk/event/evening-prayer-5/2026-12-14/
CATEGORIES:Morning & Evening Prayer,What's On,Worship
END:VEVENT
BEGIN:VEVENT
DTSTART;TZID=Europe/London:20261215T173000
DTEND;TZID=Europe/London:20261215T180000
DTSTAMP:20260425T205114
CREATED:20220406T131426Z
LAST-MODIFIED:20240311T110615Z
UID:10014523-1797355800-1797357600@www.stpeterdebeauvoir.org.uk
SUMMARY:Evening Prayer
DESCRIPTION:We begin and end most days with 20 minutes of reflective prayer in church. Prayer requests welcome. This is a wonderful way to mark the rhythm of the day! \nThe service takes place in the sanctuary of the church using an easy to follow order of service. All welcome!
URL:http://www.stpeterdebeauvoir.org.uk/event/evening-prayer-5/2026-12-15/
CATEGORIES:Morning & Evening Prayer,What's On,Worship
END:VEVENT
BEGIN:VEVENT
DTSTART;TZID=Europe/London:20261216T173000
DTEND;TZID=Europe/London:20261216T180000
DTSTAMP:20260425T205114
CREATED:20220406T131426Z
LAST-MODIFIED:20240311T110615Z
UID:10014524-1797442200-1797444000@www.stpeterdebeauvoir.org.uk
SUMMARY:Evening Prayer
DESCRIPTION:We begin and end most days with 20 minutes of reflective prayer in church. Prayer requests welcome. This is a wonderful way to mark the rhythm of the day! \nThe service takes place in the sanctuary of the church using an easy to follow order of service. All welcome!
URL:http://www.stpeterdebeauvoir.org.uk/event/evening-prayer-5/2026-12-16/
CATEGORIES:Morning & Evening Prayer,What's On,Worship
END:VEVENT
BEGIN:VEVENT
DTSTART;TZID=Europe/London:20261218T173000
DTEND;TZID=Europe/London:20261218T180000
DTSTAMP:20260425T205114
CREATED:20220406T131426Z
LAST-MODIFIED:20240311T110615Z
UID:10014525-1797615000-1797616800@www.stpeterdebeauvoir.org.uk
SUMMARY:Evening Prayer
DESCRIPTION:We begin and end most days with 20 minutes of reflective prayer in church. Prayer requests welcome. This is a wonderful way to mark the rhythm of the day! \nThe service takes place in the sanctuary of the church using an easy to follow order of service. All welcome!
URL:http://www.stpeterdebeauvoir.org.uk/event/evening-prayer-5/2026-12-18/
CATEGORIES:Morning & Evening Prayer,What's On,Worship
END:VEVENT
BEGIN:VEVENT
DTSTART;TZID=Europe/London:20261221T173000
DTEND;TZID=Europe/London:20261221T180000
DTSTAMP:20260425T205114
CREATED:20220406T131426Z
LAST-MODIFIED:20240311T110615Z
UID:10014526-1797874200-1797876000@www.stpeterdebeauvoir.org.uk
SUMMARY:Evening Prayer
DESCRIPTION:We begin and end most days with 20 minutes of reflective prayer in church. Prayer requests welcome. This is a wonderful way to mark the rhythm of the day! \nThe service takes place in the sanctuary of the church using an easy to follow order of service. All welcome!
URL:http://www.stpeterdebeauvoir.org.uk/event/evening-prayer-5/2026-12-21/
CATEGORIES:Morning & Evening Prayer,What's On,Worship
END:VEVENT
BEGIN:VEVENT
DTSTART;TZID=Europe/London:20261222T173000
DTEND;TZID=Europe/London:20261222T180000
DTSTAMP:20260425T205114
CREATED:20220406T131426Z
LAST-MODIFIED:20240311T110615Z
UID:10014527-1797960600-1797962400@www.stpeterdebeauvoir.org.uk
SUMMARY:Evening Prayer
DESCRIPTION:We begin and end most days with 20 minutes of reflective prayer in church. Prayer requests welcome. This is a wonderful way to mark the rhythm of the day! \nThe service takes place in the sanctuary of the church using an easy to follow order of service. All welcome!
URL:http://www.stpeterdebeauvoir.org.uk/event/evening-prayer-5/2026-12-22/
CATEGORIES:Morning & Evening Prayer,What's On,Worship
END:VEVENT
BEGIN:VEVENT
DTSTART;TZID=Europe/London:20261223T173000
DTEND;TZID=Europe/London:20261223T180000
DTSTAMP:20260425T205114
CREATED:20220406T131426Z
LAST-MODIFIED:20240311T110615Z
UID:10014528-1798047000-1798048800@www.stpeterdebeauvoir.org.uk
SUMMARY:Evening Prayer
DESCRIPTION:We begin and end most days with 20 minutes of reflective prayer in church. Prayer requests welcome. This is a wonderful way to mark the rhythm of the day! \nThe service takes place in the sanctuary of the church using an easy to follow order of service. All welcome!
URL:http://www.stpeterdebeauvoir.org.uk/event/evening-prayer-5/2026-12-23/
CATEGORIES:Morning & Evening Prayer,What's On,Worship
END:VEVENT
BEGIN:VEVENT
DTSTART;TZID=Europe/London:20261225T173000
DTEND;TZID=Europe/London:20261225T180000
DTSTAMP:20260425T205114
CREATED:20220406T131426Z
LAST-MODIFIED:20240311T110615Z
UID:10014529-1798219800-1798221600@www.stpeterdebeauvoir.org.uk
SUMMARY:Evening Prayer
DESCRIPTION:We begin and end most days with 20 minutes of reflective prayer in church. Prayer requests welcome. This is a wonderful way to mark the rhythm of the day! \nThe service takes place in the sanctuary of the church using an easy to follow order of service. All welcome!
URL:http://www.stpeterdebeauvoir.org.uk/event/evening-prayer-5/2026-12-25/
CATEGORIES:Morning & Evening Prayer,What's On,Worship
END:VEVENT
END:VCALENDAR